Package: FRGEpistasis Version: 1.43.0 Command: chmod a+r FRGEpistasis -R && E:\biocbuild\bbs-3.21-bioc\R\bin\R.exe CMD build --keep-empty-dirs --no-resave-data FRGEpistasis StartedAt: 2025-02-09 18:46:45 -0500 (Sun, 09 Feb 2025) EndedAt: 2025-02-09 18:47:18 -0500 (Sun, 09 Feb 2025) EllapsedTime: 33.0 seconds RetCode: 0 Status: OK PackageFile: FRGEpistasis_1.43.0.tar.gz PackageFileSize: 223 KiB