Package: FamAgg Version: 1.35.0 Command: rm -rf FamAgg.buildbin-libdir && mkdir FamAgg.buildbin-libdir && /Users/biocbuild/BBS/utils/build-universal.sh FamAgg_1.35.0.tar.gz /Library/Frameworks/R.framework/Resources/bin/R FamAgg.buildbin-libdir StartedAt: 2025-02-09 22:14:11 -0500 (Sun, 09 Feb 2025) EndedAt: 2025-02-09 22:14:17 -0500 (Sun, 09 Feb 2025) EllapsedTime: 6.1 seconds RetCode: 0 Status: OK PackageFile: FamAgg_1.35.0.tgz PackageFileSize: 2.147 MiB