Package: FamAgg Version: 1.35.0 Command: /home/biocbuild/R/R/bin/R CMD INSTALL FamAgg StartedAt: 2025-01-29 20:26:08 -0000 (Wed, 29 Jan 2025) EndedAt: 2025-01-29 20:26:25 -0000 (Wed, 29 Jan 2025) EllapsedTime: 17.6 seconds RetCode: 0 Status: OK