Package: FamAgg Version: 1.35.0 Command: /Library/Frameworks/R.framework/Resources/bin/R CMD INSTALL FamAgg StartedAt: 2025-02-09 15:38:26 -0500 (Sun, 09 Feb 2025) EndedAt: 2025-02-09 15:38:44 -0500 (Sun, 09 Feb 2025) EllapsedTime: 17.8 seconds RetCode: 0 Status: OK