Package: FamAgg Version: 1.35.0 Command: /home/biocbuild/bbs-3.21-bioc/R/bin/R CMD build --keep-empty-dirs --no-resave-data FamAgg StartedAt: 2025-02-09 17:13:21 -0500 (Sun, 09 Feb 2025) EndedAt: 2025-02-09 17:14:30 -0500 (Sun, 09 Feb 2025) EllapsedTime: 69.3 seconds RetCode: 0 Status: OK PackageFile: FamAgg_1.35.0.tar.gz PackageFileSize: 1.958 MiB