Package: FamAgg Version: 1.35.0 Command: rm -rf FamAgg.buildbin-libdir && mkdir FamAgg.buildbin-libdir && E:\biocbuild\bbs-3.21-bioc\R\bin\R.exe CMD INSTALL --build --library=FamAgg.buildbin-libdir FamAgg_1.35.0.tar.gz StartedAt: 2025-02-10 07:44:21 -0500 (Mon, 10 Feb 2025) EndedAt: 2025-02-10 07:45:40 -0500 (Mon, 10 Feb 2025) EllapsedTime: 79.7 seconds RetCode: 0 Status: OK PackageFile: FamAgg_1.35.0.zip PackageFileSize: 1.421 MiB