Package: FamAgg Version: 1.35.0 Command: chmod a+r FamAgg -R && E:\biocbuild\bbs-3.21-bioc\R\bin\R.exe CMD build --keep-empty-dirs --no-resave-data FamAgg StartedAt: 2025-02-03 18:52:12 -0500 (Mon, 03 Feb 2025) EndedAt: 2025-02-03 18:54:06 -0500 (Mon, 03 Feb 2025) EllapsedTime: 114.4 seconds RetCode: 0 Status: OK PackageFile: FamAgg_1.35.0.tar.gz PackageFileSize: 941.1 KiB