Package: FamAgg Version: 1.35.0 Command: E:\biocbuild\bbs-3.21-bioc\R\bin\R.exe CMD check --no-multiarch --install=check:FamAgg.install-out.txt --library=E:\biocbuild\bbs-3.21-bioc\R\library --no-vignettes --timings FamAgg_1.35.0.tar.gz StartedAt: 2025-02-10 01:02:09 -0500 (Mon, 10 Feb 2025) EndedAt: 2025-02-10 01:04:41 -0500 (Mon, 10 Feb 2025) EllapsedTime: 152.5 seconds RetCode: 0 Status: OK CheckDir: FamAgg.Rcheck Warnings: 0