Package: FastqCleaner Version: 1.25.0 Command: /Library/Frameworks/R.framework/Resources/bin/R CMD build --keep-empty-dirs --no-resave-data FastqCleaner StartedAt: 2025-02-09 16:18:39 -0500 (Sun, 09 Feb 2025) EndedAt: 2025-02-09 16:19:07 -0500 (Sun, 09 Feb 2025) EllapsedTime: 28.2 seconds RetCode: 0 Status: OK PackageFile: FastqCleaner_1.25.0.tar.gz PackageFileSize: 4.356 MiB