Package: FastqCleaner Version: 1.25.0 Command: /Library/Frameworks/R.framework/Resources/bin/R CMD INSTALL FastqCleaner StartedAt: 2025-02-04 15:16:59 -0500 (Tue, 04 Feb 2025) EndedAt: 2025-02-04 15:17:15 -0500 (Tue, 04 Feb 2025) EllapsedTime: 16.5 seconds RetCode: 0 Status: OK