Package: FastqCleaner Version: 1.25.0 Command: /home/biocbuild/R/R/bin/R CMD check --install=check:FastqCleaner.install-out.txt --library=/home/biocbuild/R/R/site-library --no-vignettes --timings FastqCleaner_1.25.0.tar.gz StartedAt: 2025-01-28 10:33:57 -0000 (Tue, 28 Jan 2025) EndedAt: 2025-01-28 10:38:44 -0000 (Tue, 28 Jan 2025) EllapsedTime: 286.4 seconds RetCode: 0 Status: OK CheckDir: FastqCleaner.Rcheck Warnings: 0