Package: FastqCleaner Version: 1.25.0 Command: /Library/Frameworks/R.framework/Resources/bin/R CMD check --install=check:FastqCleaner.install-out.txt --library=/Library/Frameworks/R.framework/Resources/library --no-vignettes --timings FastqCleaner_1.25.0.tar.gz StartedAt: 2025-02-04 20:28:25 -0500 (Tue, 04 Feb 2025) EndedAt: 2025-02-04 20:32:22 -0500 (Tue, 04 Feb 2025) EllapsedTime: 237.0 seconds RetCode: 0 Status: OK CheckDir: FastqCleaner.Rcheck Warnings: 0