Package: FastqCleaner Version: 1.25.0 Command: /home/biocbuild/bbs-3.21-bioc/R/bin/R CMD build --keep-empty-dirs --no-resave-data FastqCleaner StartedAt: 2025-02-09 17:13:31 -0500 (Sun, 09 Feb 2025) EndedAt: 2025-02-09 17:14:46 -0500 (Sun, 09 Feb 2025) EllapsedTime: 75.2 seconds RetCode: 0 Status: OK PackageFile: FastqCleaner_1.25.0.tar.gz PackageFileSize: 4.318 MiB