Package: FeatSeekR Version: 1.7.2 Maintainer: Tuemay Capraz MaintainerEmail: tuemay.capraz at embl.de git_url: https://git.bioconductor.org/packages/FeatSeekR git_branch: devel git_last_commit: e4fd2d7 git_last_commit_date: 2025-01-28 05:56:21 -0500 (Tue, 28 Jan 2025)