Package: FeatSeekR Version: 1.7.2 Command: /Library/Frameworks/R.framework/Resources/bin/R CMD build --keep-empty-dirs --no-resave-data FeatSeekR StartedAt: 2025-02-09 16:19:16 -0500 (Sun, 09 Feb 2025) EndedAt: 2025-02-09 16:19:29 -0500 (Sun, 09 Feb 2025) EllapsedTime: 13.2 seconds RetCode: 0 Status: OK PackageFile: FeatSeekR_1.7.2.tar.gz PackageFileSize: 361.8 KiB