Package: FeatSeekR Version: 1.7.2 Command: /Library/Frameworks/R.framework/Resources/bin/R CMD INSTALL FeatSeekR StartedAt: 2025-02-04 15:07:06 -0500 (Tue, 04 Feb 2025) EndedAt: 2025-02-04 15:07:14 -0500 (Tue, 04 Feb 2025) EllapsedTime: 8.4 seconds RetCode: 0 Status: OK