Package: FeatSeekR Version: 1.7.2 Command: /home/biocbuild/R/R/bin/R CMD build --keep-empty-dirs --no-resave-data FeatSeekR StartedAt: 2025-01-28 22:52:37 -0000 (Tue, 28 Jan 2025) EndedAt: 2025-01-28 22:53:26 -0000 (Tue, 28 Jan 2025) EllapsedTime: 49.1 seconds RetCode: 0 Status: OK PackageFile: FeatSeekR_1.7.2.tar.gz PackageFileSize: 389.3 KiB