Package: FeatSeekR Version: 1.7.2 Command: /home/biocbuild/R/R/bin/R CMD INSTALL FeatSeekR StartedAt: 2025-01-29 19:43:57 -0000 (Wed, 29 Jan 2025) EndedAt: 2025-01-29 19:44:25 -0000 (Wed, 29 Jan 2025) EllapsedTime: 27.6 seconds RetCode: 0 Status: OK