Package: FeatSeekR Version: 1.7.2 Command: /Library/Frameworks/R.framework/Resources/bin/R CMD build --keep-empty-dirs --no-resave-data FeatSeekR StartedAt: 2025-02-04 16:41:31 -0500 (Tue, 04 Feb 2025) EndedAt: 2025-02-04 16:42:21 -0500 (Tue, 04 Feb 2025) EllapsedTime: 50.3 seconds RetCode: 0 Status: OK PackageFile: FeatSeekR_1.7.2.tar.gz PackageFileSize: 361.8 KiB