Package: FeatSeekR Version: 1.7.2 Command: /Library/Frameworks/R.framework/Resources/bin/R CMD check --install=check:FeatSeekR.install-out.txt --library=/Library/Frameworks/R.framework/Resources/library --no-vignettes --timings FeatSeekR_1.7.2.tar.gz StartedAt: 2025-02-04 20:28:38 -0500 (Tue, 04 Feb 2025) EndedAt: 2025-02-04 20:31:23 -0500 (Tue, 04 Feb 2025) EllapsedTime: 165.1 seconds RetCode: 0 Status: OK CheckDir: FeatSeekR.Rcheck Warnings: 0