Package: FeatSeekR Version: 1.7.2 Command: /Library/Frameworks/R.framework/Resources/bin/R CMD INSTALL FeatSeekR StartedAt: 2025-02-04 15:12:18 -0500 (Tue, 04 Feb 2025) EndedAt: 2025-02-04 15:12:45 -0500 (Tue, 04 Feb 2025) EllapsedTime: 26.7 seconds RetCode: 0 Status: OK