Package: FeatSeekR Version: 1.7.2 Command: /home/biocbuild/bbs-3.21-bioc/R/bin/R CMD build --keep-empty-dirs --no-resave-data FeatSeekR StartedAt: 2025-02-04 17:12:03 -0500 (Tue, 04 Feb 2025) EndedAt: 2025-02-04 17:12:51 -0500 (Tue, 04 Feb 2025) EllapsedTime: 48.1 seconds RetCode: 0 Status: OK PackageFile: FeatSeekR_1.7.2.tar.gz PackageFileSize: 357.1 KiB