Package: FeatSeekR Version: 1.7.2 Command: /home/biocbuild/bbs-3.21-bioc/R/bin/R CMD check --install=check:FeatSeekR.install-out.txt --library=/home/biocbuild/bbs-3.21-bioc/R/site-library --timings FeatSeekR_1.7.2.tar.gz StartedAt: 2025-02-04 22:16:54 -0500 (Tue, 04 Feb 2025) EndedAt: 2025-02-04 22:19:45 -0500 (Tue, 04 Feb 2025) EllapsedTime: 171.2 seconds RetCode: 0 Status: OK CheckDir: FeatSeekR.Rcheck Warnings: 0