Package: FeatSeekR Version: 1.7.2 Command: /home/biocbuild/bbs-3.21-bioc/R/bin/R CMD INSTALL FeatSeekR StartedAt: 2025-02-04 15:28:36 -0500 (Tue, 04 Feb 2025) EndedAt: 2025-02-04 15:28:57 -0500 (Tue, 04 Feb 2025) EllapsedTime: 20.3 seconds RetCode: 0 Status: OK