Package: FeatSeekR Version: 1.7.2 Command: rm -rf FeatSeekR.buildbin-libdir && mkdir FeatSeekR.buildbin-libdir && E:\biocbuild\bbs-3.21-bioc\R\bin\R.exe CMD INSTALL --build --library=FeatSeekR.buildbin-libdir FeatSeekR_1.7.2.tar.gz StartedAt: 2025-02-10 07:44:43 -0500 (Mon, 10 Feb 2025) EndedAt: 2025-02-10 07:45:21 -0500 (Mon, 10 Feb 2025) EllapsedTime: 38.3 seconds RetCode: 0 Status: OK PackageFile: FeatSeekR_1.7.2.zip PackageFileSize: 354.5 KiB