Package: FeatSeekR Version: 1.7.2 Command: chmod a+r FeatSeekR -R && E:\biocbuild\bbs-3.21-bioc\R\bin\R.exe CMD build --keep-empty-dirs --no-resave-data FeatSeekR StartedAt: 2025-02-09 18:41:50 -0500 (Sun, 09 Feb 2025) EndedAt: 2025-02-09 18:42:32 -0500 (Sun, 09 Feb 2025) EllapsedTime: 41.1 seconds RetCode: 0 Status: OK PackageFile: FeatSeekR_1.7.2.tar.gz PackageFileSize: 321.4 KiB