Package: FeatSeekR Version: 1.7.2 Command: E:\biocbuild\bbs-3.21-bioc\R\bin\R.exe CMD check --no-multiarch --install=check:FeatSeekR.install-out.txt --library=E:\biocbuild\bbs-3.21-bioc\R\library --no-vignettes --timings FeatSeekR_1.7.2.tar.gz StartedAt: 2025-02-10 01:04:55 -0500 (Mon, 10 Feb 2025) EndedAt: 2025-02-10 01:07:58 -0500 (Mon, 10 Feb 2025) EllapsedTime: 183.0 seconds RetCode: 0 Status: OK CheckDir: FeatSeekR.Rcheck Warnings: 0