Package: FeatSeekR Version: 1.7.2 Command: E:\biocbuild\bbs-3.21-bioc\R\bin\R.exe CMD INSTALL FeatSeekR StartedAt: 2025-02-09 16:49:41 -0500 (Sun, 09 Feb 2025) EndedAt: 2025-02-09 16:50:06 -0500 (Sun, 09 Feb 2025) EllapsedTime: 25.3 seconds RetCode: 0 Status: OK