Package: FindIT2 Version: 1.13.0 Command: /home/biocbuild/bbs-3.21-bioc/R/bin/R CMD check --install=check:FindIT2.install-out.txt --library=/home/biocbuild/bbs-3.21-bioc/R/site-library --timings FindIT2_1.13.0.tar.gz StartedAt: 2025-02-09 22:18:42 -0500 (Sun, 09 Feb 2025) EndedAt: 2025-02-09 22:25:32 -0500 (Sun, 09 Feb 2025) EllapsedTime: 409.7 seconds RetCode: 0 Status: OK CheckDir: FindIT2.Rcheck Warnings: 0