Package: FindIT2 Version: 1.13.0 Command: chmod a+r FindIT2 -R && E:\biocbuild\bbs-3.21-bioc\R\bin\R.exe CMD build --keep-empty-dirs --no-resave-data FindIT2 StartedAt: 2025-02-12 18:46:44 -0500 (Wed, 12 Feb 2025) EndedAt: 2025-02-12 18:48:43 -0500 (Wed, 12 Feb 2025) EllapsedTime: 119.3 seconds RetCode: 0 Status: OK PackageFile: FindIT2_1.13.0.tar.gz PackageFileSize: 1.42 MiB