Package: FindIT2 Version: 1.13.0 Command: E:\biocbuild\bbs-3.21-bioc\R\bin\R.exe CMD INSTALL FindIT2 StartedAt: 2025-02-12 16:20:53 -0500 (Wed, 12 Feb 2025) EndedAt: 2025-02-12 16:21:41 -0500 (Wed, 12 Feb 2025) EllapsedTime: 48.4 seconds RetCode: 0 Status: OK