Package: FitHiC Version: 1.33.0 Command: /Library/Frameworks/R.framework/Resources/bin/R CMD check --install=check:FitHiC.install-out.txt --library=/Library/Frameworks/R.framework/Resources/library --no-vignettes --timings FitHiC_1.33.0.tar.gz StartedAt: 2025-02-09 20:43:40 -0500 (Sun, 09 Feb 2025) EndedAt: 2025-02-09 20:46:06 -0500 (Sun, 09 Feb 2025) EllapsedTime: 146.4 seconds RetCode: 0 Status: OK CheckDir: FitHiC.Rcheck Warnings: 0