Package: FitHiC Version: 1.33.0 Command: rm -rf FitHiC.buildbin-libdir && mkdir FitHiC.buildbin-libdir && E:\biocbuild\bbs-3.21-bioc\R\bin\R.exe CMD INSTALL --build --library=FitHiC.buildbin-libdir FitHiC_1.33.0.tar.gz StartedAt: 2025-02-10 07:45:22 -0500 (Mon, 10 Feb 2025) EndedAt: 2025-02-10 07:45:47 -0500 (Mon, 10 Feb 2025) EllapsedTime: 25.2 seconds RetCode: 0 Status: OK PackageFile: FitHiC_1.33.0.zip PackageFileSize: 27.43 MiB