Package: FlowSOM Version: 2.15.0 Command: rm -rf FlowSOM.buildbin-libdir && mkdir FlowSOM.buildbin-libdir && /Users/biocbuild/BBS/utils/build-universal.sh FlowSOM_2.15.0.tar.gz /Library/Frameworks/R.framework/Resources/bin/R FlowSOM.buildbin-libdir StartedAt: 2025-02-09 22:14:42 -0500 (Sun, 09 Feb 2025) EndedAt: 2025-02-09 22:14:48 -0500 (Sun, 09 Feb 2025) EllapsedTime: 6.1 seconds RetCode: 0 Status: OK PackageFile: FlowSOM_2.15.0.tgz PackageFileSize: 5.228 MiB