Package: FlowSOM Version: 2.15.0 Command: /Library/Frameworks/R.framework/Resources/bin/R CMD build --keep-empty-dirs --no-resave-data FlowSOM StartedAt: 2025-02-04 16:21:43 -0500 (Tue, 04 Feb 2025) EndedAt: 2025-02-04 16:22:23 -0500 (Tue, 04 Feb 2025) EllapsedTime: 39.5 seconds RetCode: 0 Status: OK PackageFile: FlowSOM_2.15.0.tar.gz PackageFileSize: 4.88 MiB