Package: FlowSOM Version: 2.15.0 Command: /Library/Frameworks/R.framework/Resources/bin/R CMD check --install=check:FlowSOM.install-out.txt --library=/Library/Frameworks/R.framework/Resources/library --no-vignettes --timings FlowSOM_2.15.0.tar.gz StartedAt: 2025-02-09 19:15:45 -0500 (Sun, 09 Feb 2025) EndedAt: 2025-02-09 19:19:06 -0500 (Sun, 09 Feb 2025) EllapsedTime: 200.5 seconds RetCode: 0 Status: OK CheckDir: FlowSOM.Rcheck Warnings: 0