Package: FlowSOM Version: 2.15.0 Command: /home/biocbuild/R/R/bin/R CMD check --install=check:FlowSOM.install-out.txt --library=/home/biocbuild/R/R/site-library --no-vignettes --timings FlowSOM_2.15.0.tar.gz StartedAt: 2025-01-28 10:41:22 -0000 (Tue, 28 Jan 2025) EndedAt: 2025-01-28 10:53:02 -0000 (Tue, 28 Jan 2025) EllapsedTime: 699.7 seconds RetCode: 0 Status: OK CheckDir: FlowSOM.Rcheck Warnings: 0