Package: FlowSOM Version: 2.15.0 Command: /home/biocbuild/R/R/bin/R CMD INSTALL FlowSOM StartedAt: 2025-01-29 20:33:15 -0000 (Wed, 29 Jan 2025) EndedAt: 2025-01-29 20:33:33 -0000 (Wed, 29 Jan 2025) EllapsedTime: 18.3 seconds RetCode: 0 Status: OK