Package: FlowSOM Version: 2.15.0 Command: /home/biocbuild/bbs-3.21-bioc/R/bin/R CMD build --keep-empty-dirs --no-resave-data FlowSOM StartedAt: 2025-02-04 17:15:10 -0500 (Tue, 04 Feb 2025) EndedAt: 2025-02-04 17:16:47 -0500 (Tue, 04 Feb 2025) EllapsedTime: 97.1 seconds RetCode: 0 Status: OK PackageFile: FlowSOM_2.15.0.tar.gz PackageFileSize: 4.905 MiB