Package: G4SNVHunter Version: 0.99.4 Maintainer: Rongxin Zhang MaintainerEmail: rongxinzhang at outlook.com git_url: https://git.bioconductor.org/packages/G4SNVHunter git_branch: devel git_last_commit: 73edf5e git_last_commit_date: 2024-12-12 03:50:19 -0500 (Thu, 12 Dec 2024)