Package: G4SNVHunter Version: 0.99.4 Command: /Library/Frameworks/R.framework/Resources/bin/R CMD INSTALL G4SNVHunter StartedAt: 2025-02-09 15:06:29 -0500 (Sun, 09 Feb 2025) EndedAt: 2025-02-09 15:06:36 -0500 (Sun, 09 Feb 2025) EllapsedTime: 6.9 seconds RetCode: 0 Status: OK