Package: G4SNVHunter Version: 0.99.4 Command: /home/biocbuild/R/R/bin/R CMD INSTALL G4SNVHunter StartedAt: 2025-01-29 19:41:27 -0000 (Wed, 29 Jan 2025) EndedAt: 2025-01-29 19:41:53 -0000 (Wed, 29 Jan 2025) EllapsedTime: 25.8 seconds RetCode: 0 Status: OK