Package: G4SNVHunter Version: 0.99.4 Command: rm -rf G4SNVHunter.buildbin-libdir && mkdir G4SNVHunter.buildbin-libdir && /Users/biocbuild/BBS/utils/build-universal.sh G4SNVHunter_0.99.4.tar.gz /Library/Frameworks/R.framework/Resources/bin/R G4SNVHunter.buildbin-libdir StartedAt: 2025-02-10 00:54:15 -0500 (Mon, 10 Feb 2025) EndedAt: 2025-02-10 00:54:46 -0500 (Mon, 10 Feb 2025) EllapsedTime: 31.4 seconds RetCode: 0 Status: OK PackageFile: G4SNVHunter_0.99.4.tgz PackageFileSize: 1.666 MiB