Package: G4SNVHunter Version: 0.99.4 Command: /Library/Frameworks/R.framework/Resources/bin/R CMD build --keep-empty-dirs --no-resave-data G4SNVHunter StartedAt: 2025-02-09 16:48:09 -0500 (Sun, 09 Feb 2025) EndedAt: 2025-02-09 16:50:26 -0500 (Sun, 09 Feb 2025) EllapsedTime: 137.2 seconds RetCode: 0 Status: OK PackageFile: G4SNVHunter_0.99.4.tar.gz PackageFileSize: 1.613 MiB