Package: G4SNVHunter Version: 0.99.4 Command: /Library/Frameworks/R.framework/Resources/bin/R CMD check --install=check:G4SNVHunter.install-out.txt --library=/Library/Frameworks/R.framework/Resources/library --no-vignettes --timings G4SNVHunter_0.99.4.tar.gz StartedAt: 2025-02-12 20:36:11 -0500 (Wed, 12 Feb 2025) EndedAt: 2025-02-12 20:41:08 -0500 (Wed, 12 Feb 2025) EllapsedTime: 296.3 seconds RetCode: 0 Status: OK CheckDir: G4SNVHunter.Rcheck Warnings: 0