Package: G4SNVHunter Version: 0.99.4 Command: /home/biocbuild/bbs-3.21-bioc/R/bin/R CMD INSTALL G4SNVHunter StartedAt: 2025-02-09 15:15:23 -0500 (Sun, 09 Feb 2025) EndedAt: 2025-02-09 15:15:41 -0500 (Sun, 09 Feb 2025) EllapsedTime: 17.7 seconds RetCode: 0 Status: OK