Package: G4SNVHunter Version: 0.99.4 Command: rm -rf G4SNVHunter.buildbin-libdir && mkdir G4SNVHunter.buildbin-libdir && E:\biocbuild\bbs-3.21-bioc\R\bin\R.exe CMD INSTALL --build --library=G4SNVHunter.buildbin-libdir G4SNVHunter_0.99.4.tar.gz StartedAt: 2025-02-10 07:46:48 -0500 (Mon, 10 Feb 2025) EndedAt: 2025-02-10 07:47:32 -0500 (Mon, 10 Feb 2025) EllapsedTime: 44.4 seconds RetCode: 0 Status: OK PackageFile: G4SNVHunter_0.99.4.zip PackageFileSize: 1.508 MiB