Package: G4SNVHunter Version: 0.99.4 Command: chmod a+r G4SNVHunter -R && E:\biocbuild\bbs-3.21-bioc\R\bin\R.exe CMD build --keep-empty-dirs --no-resave-data G4SNVHunter StartedAt: 2025-02-09 18:47:31 -0500 (Sun, 09 Feb 2025) EndedAt: 2025-02-09 18:50:02 -0500 (Sun, 09 Feb 2025) EllapsedTime: 151.8 seconds RetCode: 0 Status: OK PackageFile: G4SNVHunter_0.99.4.tar.gz PackageFileSize: 1.151 MiB