Package: GA4GHclient Version: 1.31.0 Command: rm -rf GA4GHclient.buildbin-libdir && mkdir GA4GHclient.buildbin-libdir && /Users/biocbuild/BBS/utils/build-universal.sh GA4GHclient_1.31.0.tar.gz /Library/Frameworks/R.framework/Resources/bin/R GA4GHclient.buildbin-libdir StartedAt: 2025-02-09 22:14:53 -0500 (Sun, 09 Feb 2025) EndedAt: 2025-02-09 22:15:09 -0500 (Sun, 09 Feb 2025) EllapsedTime: 16.3 seconds RetCode: 0 Status: OK PackageFile: GA4GHclient_1.31.0.tgz PackageFileSize: 760.5 KiB