Package: GA4GHclient Version: 1.31.0 Command: /Library/Frameworks/R.framework/Resources/bin/R CMD INSTALL GA4GHclient StartedAt: 2025-02-09 15:10:58 -0500 (Sun, 09 Feb 2025) EndedAt: 2025-02-09 15:11:14 -0500 (Sun, 09 Feb 2025) EllapsedTime: 15.5 seconds RetCode: 0 Status: OK